BEGIN:VCALENDAR
VERSION:2.0
PRODID:-//Bruton Town Council - ECPv6.15.14//NONSGML v1.0//EN
CALSCALE:GREGORIAN
METHOD:PUBLISH
X-WR-CALNAME:Bruton Town Council
X-ORIGINAL-URL:https://brutontowncouncil.gov.uk
X-WR-CALDESC:Events for Bruton Town Council
REFRESH-INTERVAL;VALUE=DURATION:PT1H
X-Robots-Tag:noindex
X-PUBLISHED-TTL:PT1H
BEGIN:VTIMEZONE
TZID:Europe/London
BEGIN:DAYLIGHT
TZOFFSETFROM:+0000
TZOFFSETTO:+0100
TZNAME:BST
DTSTART:20200329T010000
END:DAYLIGHT
BEGIN:STANDARD
TZOFFSETFROM:+0100
TZOFFSETTO:+0000
TZNAME:GMT
DTSTART:20201025T010000
END:STANDARD
BEGIN:DAYLIGHT
TZOFFSETFROM:+0000
TZOFFSETTO:+0100
TZNAME:BST
DTSTART:20210328T010000
END:DAYLIGHT
BEGIN:STANDARD
TZOFFSETFROM:+0100
TZOFFSETTO:+0000
TZNAME:GMT
DTSTART:20211031T010000
END:STANDARD
BEGIN:DAYLIGHT
TZOFFSETFROM:+0000
TZOFFSETTO:+0100
TZNAME:BST
DTSTART:20220327T010000
END:DAYLIGHT
BEGIN:STANDARD
TZOFFSETFROM:+0100
TZOFFSETTO:+0000
TZNAME:GMT
DTSTART:20221030T010000
END:STANDARD
BEGIN:DAYLIGHT
TZOFFSETFROM:+0000
TZOFFSETTO:+0100
TZNAME:BST
DTSTART:20230326T010000
END:DAYLIGHT
BEGIN:STANDARD
TZOFFSETFROM:+0100
TZOFFSETTO:+0000
TZNAME:GMT
DTSTART:20231029T010000
END:STANDARD
BEGIN:DAYLIGHT
TZOFFSETFROM:+0000
TZOFFSETTO:+0100
TZNAME:BST
DTSTART:20240331T010000
END:DAYLIGHT
BEGIN:STANDARD
TZOFFSETFROM:+0100
TZOFFSETTO:+0000
TZNAME:GMT
DTSTART:20241027T010000
END:STANDARD
BEGIN:DAYLIGHT
TZOFFSETFROM:+0000
TZOFFSETTO:+0100
TZNAME:BST
DTSTART:20250330T010000
END:DAYLIGHT
BEGIN:STANDARD
TZOFFSETFROM:+0100
TZOFFSETTO:+0000
TZNAME:GMT
DTSTART:20251026T010000
END:STANDARD
BEGIN:DAYLIGHT
TZOFFSETFROM:+0000
TZOFFSETTO:+0100
TZNAME:BST
DTSTART:20260329T010000
END:DAYLIGHT
BEGIN:STANDARD
TZOFFSETFROM:+0100
TZOFFSETTO:+0000
TZNAME:GMT
DTSTART:20261025T010000
END:STANDARD
END:VTIMEZONE
BEGIN:VEVENT
DTSTART;TZID=Europe/London:20250729T193000
DTEND;TZID=Europe/London:20250729T213000
DTSTAMP:20260421T093045
CREATED:20231016T113039Z
LAST-MODIFIED:20231016T113040Z
UID:10000686-1753817400-1753824600@brutontowncouncil.gov.uk
SUMMARY:Full Council
DESCRIPTION:
URL:https://brutontowncouncil.gov.uk/meeting/full-council-19-3-2-7-2-2/2025-07-29/
LOCATION:Community Hall
CATEGORIES:Full Council
ORGANIZER;CN="Town Clerk":MAILTO:townclerk@brutontowncouncil.gov.uk
END:VEVENT
BEGIN:VEVENT
DTSTART;TZID=Europe/London:20250527T193000
DTEND;TZID=Europe/London:20250527T213000
DTSTAMP:20260421T093045
CREATED:20240604T133711Z
LAST-MODIFIED:20250522T082212Z
UID:10000776-1748374200-1748381400@brutontowncouncil.gov.uk
SUMMARY:Full Council
DESCRIPTION:The agenda can be found here \nThe clerk’s report can be found here \nThe supporting finance papers can be found here \n 
URL:https://brutontowncouncil.gov.uk/meeting/full-council-27/
LOCATION:Community Hall
CATEGORIES:Full Council
ORGANIZER;CN="Town Clerk":MAILTO:townclerk@brutontowncouncil.gov.uk
END:VEVENT
BEGIN:VEVENT
DTSTART;TZID=Europe/London:20250429T193000
DTEND;TZID=Europe/London:20250429T213000
DTSTAMP:20260421T093045
CREATED:20231016T113039Z
LAST-MODIFIED:20231016T113040Z
UID:10000685-1745955000-1745962200@brutontowncouncil.gov.uk
SUMMARY:Full Council
DESCRIPTION:
URL:https://brutontowncouncil.gov.uk/meeting/full-council-19-3-2-7-2-2/2025-04-29/
LOCATION:Community Hall
CATEGORIES:Full Council
ORGANIZER;CN="Town Clerk":MAILTO:townclerk@brutontowncouncil.gov.uk
END:VEVENT
BEGIN:VEVENT
DTSTART;TZID=Europe/London:20250325T193000
DTEND;TZID=Europe/London:20250325T210000
DTSTAMP:20260421T093045
CREATED:20240424T101329Z
LAST-MODIFIED:20250319T130858Z
UID:10000753-1742931000-1742936400@brutontowncouncil.gov.uk
SUMMARY:Full Council
DESCRIPTION:The agenda can be found here \nThe Clerk’s Report can be found here \nThe finance papers and payments can be found here \n 
URL:https://brutontowncouncil.gov.uk/meeting/full-council-26/
LOCATION:Community Hall
CATEGORIES:Full Council
ORGANIZER;CN="Town Clerk":MAILTO:townclerk@brutontowncouncil.gov.uk
END:VEVENT
BEGIN:VEVENT
DTSTART;TZID=Europe/London:20250225T193000
DTEND;TZID=Europe/London:20250225T210000
DTSTAMP:20260421T093045
CREATED:20240424T101249Z
LAST-MODIFIED:20250219T145558Z
UID:10000752-1740511800-1740517200@brutontowncouncil.gov.uk
SUMMARY:Full Council
DESCRIPTION:The agenda can be found here. \nThe finance papers can be found here. \nThe clerk’s report can be found here.
URL:https://brutontowncouncil.gov.uk/meeting/full-council-25/
LOCATION:Community Hall
CATEGORIES:Full Council
ORGANIZER;CN="Town Clerk":MAILTO:townclerk@brutontowncouncil.gov.uk
END:VEVENT
BEGIN:VEVENT
DTSTART;TZID=Europe/London:20250121T193000
DTEND;TZID=Europe/London:20250121T213000
DTSTAMP:20260421T093045
CREATED:20240424T101209Z
LAST-MODIFIED:20250116T082644Z
UID:10000751-1737487800-1737495000@brutontowncouncil.gov.uk
SUMMARY:Full Council
DESCRIPTION:Budget & Precept \nthe agenda can be found here \nsupporting finance papers can be found here \nthe clerk’s report can be found here \na short report about the Judicial Review can be found here \n  \n  \n 
URL:https://brutontowncouncil.gov.uk/meeting/full-council-24/
LOCATION:Community Hall
CATEGORIES:Full Council
ORGANIZER;CN="Town Clerk":MAILTO:townclerk@brutontowncouncil.gov.uk
END:VEVENT
BEGIN:VEVENT
DTSTART;TZID=Europe/London:20241126T193000
DTEND;TZID=Europe/London:20241126T210000
DTSTAMP:20260421T093045
CREATED:20240424T101052Z
LAST-MODIFIED:20241121T172636Z
UID:10000750-1732649400-1732654800@brutontowncouncil.gov.uk
SUMMARY:Full Council
DESCRIPTION:The agenda can be found here \nSupporting finance papers can be found here \nthe clerk’s report can be found here \n 
URL:https://brutontowncouncil.gov.uk/meeting/full-council-23/
LOCATION:Community Hall
CATEGORIES:Full Council
ORGANIZER;CN="Town Clerk":MAILTO:townclerk@brutontowncouncil.gov.uk
END:VEVENT
BEGIN:VEVENT
DTSTART;TZID=Europe/London:20241029T193000
DTEND;TZID=Europe/London:20241029T213000
DTSTAMP:20260421T093045
CREATED:20240424T100947Z
LAST-MODIFIED:20241023T173104Z
UID:10000749-1730230200-1730237400@brutontowncouncil.gov.uk
SUMMARY:Full Council
DESCRIPTION:The agenda can be found here \nThe Clerk’s report can be found here \nSupporting finance papers can be found here \n  \n 
URL:https://brutontowncouncil.gov.uk/meeting/full-council-22/
LOCATION:Community Hall
CATEGORIES:Full Council
ORGANIZER;CN="Town Clerk":MAILTO:townclerk@brutontowncouncil.gov.uk
END:VEVENT
BEGIN:VEVENT
DTSTART;TZID=Europe/London:20240924T193000
DTEND;TZID=Europe/London:20240924T210000
DTSTAMP:20260421T093045
CREATED:20240424T100833Z
LAST-MODIFIED:20240918T201415Z
UID:10000748-1727206200-1727211600@brutontowncouncil.gov.uk
SUMMARY:Full Council
DESCRIPTION:the agenda can be found here \nthe Clerk’s Report can be found here \nFinance papers can be found here \n  \n 
URL:https://brutontowncouncil.gov.uk/meeting/full-council-21/
LOCATION:Community Hall
CATEGORIES:Full Council
ORGANIZER;CN="Town Clerk":MAILTO:townclerk@brutontowncouncil.gov.uk
END:VEVENT
BEGIN:VEVENT
DTSTART;TZID=Europe/London:20240827T193000
DTEND;TZID=Europe/London:20240827T210000
DTSTAMP:20260421T093045
CREATED:20240424T100751Z
LAST-MODIFIED:20240821T103808Z
UID:10000747-1724787000-1724792400@brutontowncouncil.gov.uk
SUMMARY:Full Council
DESCRIPTION:The agenda can be found here \nSupporting finance documents can be found here \nThe clerk’s report can be found here \n 
URL:https://brutontowncouncil.gov.uk/meeting/full-council-20/
LOCATION:Community Hall
CATEGORIES:Full Council
ORGANIZER;CN="Town Clerk":MAILTO:townclerk@brutontowncouncil.gov.uk
END:VEVENT
BEGIN:VEVENT
DTSTART;TZID=Europe/London:20240730T193000
DTEND;TZID=Europe/London:20240730T213000
DTSTAMP:20260421T093045
CREATED:20240724T161929Z
LAST-MODIFIED:20240724T181402Z
UID:10000682-1722367800-1722375000@brutontowncouncil.gov.uk
SUMMARY:Full Council
DESCRIPTION:the agenda can be found here \nthe clerk’s report can be found here \nsupporting finance papers \n  \n  \n 
URL:https://brutontowncouncil.gov.uk/meeting/full-council-19-3-2-7-2-2-3/
LOCATION:Community Hall
CATEGORIES:Full Council
ORGANIZER;CN="Town Clerk":MAILTO:townclerk@brutontowncouncil.gov.uk
END:VEVENT
BEGIN:VEVENT
DTSTART;TZID=Europe/London:20240430T193000
DTEND;TZID=Europe/London:20240430T213000
DTSTAMP:20260421T093045
CREATED:20240425T100037Z
LAST-MODIFIED:20240425T112225Z
UID:10000639-1714505400-1714512600@brutontowncouncil.gov.uk
SUMMARY:Full Council
DESCRIPTION:The agenda can be found here \nSupporting finance papers can be found here
URL:https://brutontowncouncil.gov.uk/meeting/full-council-19-3-2-7-2-2-2/
LOCATION:Community Hall
CATEGORIES:Full Council
ORGANIZER;CN="Town Clerk":MAILTO:townclerk@brutontowncouncil.gov.uk
END:VEVENT
BEGIN:VEVENT
DTSTART;TZID=Europe/London:20240326T193000
DTEND;TZID=Europe/London:20240326T213000
DTSTAMP:20260421T093045
CREATED:20240321T115647Z
LAST-MODIFIED:20240322T173504Z
UID:10000638-1711481400-1711488600@brutontowncouncil.gov.uk
SUMMARY:Full Council
DESCRIPTION:The agenda can be found here \nsupporting finance papers can be found here
URL:https://brutontowncouncil.gov.uk/meeting/full-council-19-3-2-7-2-4/
LOCATION:Community Hall
CATEGORIES:Full Council
ORGANIZER;CN="Town Clerk":MAILTO:townclerk@brutontowncouncil.gov.uk
END:VEVENT
BEGIN:VEVENT
DTSTART;TZID=Europe/London:20240227T193000
DTEND;TZID=Europe/London:20240227T213000
DTSTAMP:20260421T093045
CREATED:20240222T090032Z
LAST-MODIFIED:20240222T091848Z
UID:10000593-1709062200-1709069400@brutontowncouncil.gov.uk
SUMMARY:Full Council
DESCRIPTION:The agenda can be found here \nSupporting finance documents can be found here
URL:https://brutontowncouncil.gov.uk/meeting/full-council-19-3-2-7-2-3/
LOCATION:Community Hall
CATEGORIES:Full Council
ORGANIZER;CN="Town Clerk":MAILTO:townclerk@brutontowncouncil.gov.uk
END:VEVENT
BEGIN:VEVENT
DTSTART;TZID=Europe/London:20240116T193000
DTEND;TZID=Europe/London:20240116T213000
DTSTAMP:20260421T093045
CREATED:20231016T112543Z
LAST-MODIFIED:20240112T135226Z
UID:10000459-1705433400-1705440600@brutontowncouncil.gov.uk
SUMMARY:Full Council
DESCRIPTION:The agenda can be viewed here \nFinance papers can be viewed here \nBudget papers can be found on the Town Council Finance page
URL:https://brutontowncouncil.gov.uk/meeting/full-council-19-3-2-7/
LOCATION:Community Hall
CATEGORIES:Full Council
ORGANIZER;CN="Town Clerk":MAILTO:townclerk@brutontowncouncil.gov.uk
END:VEVENT
BEGIN:VEVENT
DTSTART;TZID=Europe/London:20231128T193000
DTEND;TZID=Europe/London:20231128T213000
DTSTAMP:20260421T093045
CREATED:20231124T172817Z
LAST-MODIFIED:20231124T172932Z
UID:10000513-1701199800-1701207000@brutontowncouncil.gov.uk
SUMMARY:Full Council
DESCRIPTION:The agenda can be found here \nSupporting finance papers can be found here
URL:https://brutontowncouncil.gov.uk/meeting/full-council-19-3-2-9/
LOCATION:Community Hall
CATEGORIES:Full Council
ORGANIZER;CN="Town Clerk":MAILTO:townclerk@brutontowncouncil.gov.uk
END:VEVENT
BEGIN:VEVENT
DTSTART;TZID=Europe/London:20231031T193000
DTEND;TZID=Europe/London:20231031T213000
DTSTAMP:20260421T093045
CREATED:20231025T152146Z
LAST-MODIFIED:20231026T104937Z
UID:10000458-1698780600-1698787800@brutontowncouncil.gov.uk
SUMMARY:Full Council
DESCRIPTION:The agenda can be found here \nsupporting finance papers can be found here
URL:https://brutontowncouncil.gov.uk/meeting/full-council-19-3-2-8/
LOCATION:Community Hall
CATEGORIES:Full Council
ORGANIZER;CN="Town Clerk":MAILTO:townclerk@brutontowncouncil.gov.uk
END:VEVENT
BEGIN:VEVENT
DTSTART;TZID=Europe/London:20231003T193000
DTEND;TZID=Europe/London:20231003T213000
DTSTAMP:20260421T093045
CREATED:20230917T085055Z
LAST-MODIFIED:20230928T132523Z
UID:10000591-1696361400-1696368600@brutontowncouncil.gov.uk
SUMMARY:Extraordinary meeting of the Full Council
DESCRIPTION:the agenda can be found here
URL:https://brutontowncouncil.gov.uk/meeting/planning-consultation-committee-tbc/
LOCATION:Community Hall
CATEGORIES:Full Council
END:VEVENT
BEGIN:VEVENT
DTSTART;TZID=Europe/London:20230926T193000
DTEND;TZID=Europe/London:20230926T213000
DTSTAMP:20260421T093045
CREATED:20230920T140221Z
LAST-MODIFIED:20230922T095130Z
UID:10000512-1695756600-1695763800@brutontowncouncil.gov.uk
SUMMARY:Full Council
DESCRIPTION:the agenda can be found here\nFinance papers can be found here
URL:https://brutontowncouncil.gov.uk/meeting/full-council-19-3-2-6/
LOCATION:Community Hall
CATEGORIES:Full Council
ORGANIZER;CN="Town Clerk":MAILTO:townclerk@brutontowncouncil.gov.uk
END:VEVENT
BEGIN:VEVENT
DTSTART;TZID=Europe/London:20230829T193000
DTEND;TZID=Europe/London:20230829T213000
DTSTAMP:20260421T093045
CREATED:20230823T131743Z
LAST-MODIFIED:20230823T154331Z
UID:10000457-1693337400-1693344600@brutontowncouncil.gov.uk
SUMMARY:Full Council
DESCRIPTION:the agenda can be found here\nSupporting finance papers can be found here\nSupporting papers can be found here
URL:https://brutontowncouncil.gov.uk/meeting/full-council-19-3-2-5/
LOCATION:Community Hall
CATEGORIES:Full Council
ORGANIZER;CN="Town Clerk":MAILTO:townclerk@brutontowncouncil.gov.uk
END:VEVENT
BEGIN:VEVENT
DTSTART;TZID=Europe/London:20230725T193000
DTEND;TZID=Europe/London:20230725T213000
DTSTAMP:20260421T093045
CREATED:20230724T112435Z
LAST-MODIFIED:20230724T112949Z
UID:10000511-1690313400-1690320600@brutontowncouncil.gov.uk
SUMMARY:Full Council
DESCRIPTION:The agenda can be found here \nSupporting papers can be found here
URL:https://brutontowncouncil.gov.uk/meeting/full-council-19-3-2-4/
LOCATION:Community Hall
CATEGORIES:Full Council
ORGANIZER;CN="Town Clerk":MAILTO:townclerk@brutontowncouncil.gov.uk
END:VEVENT
BEGIN:VEVENT
DTSTART;TZID=Europe/London:20230627T193000
DTEND;TZID=Europe/London:20230627T213000
DTSTAMP:20260421T093045
CREATED:20230622T135231Z
LAST-MODIFIED:20230622T135232Z
UID:10000510-1687894200-1687901400@brutontowncouncil.gov.uk
SUMMARY:Full Council
DESCRIPTION:The agenda can be found here\nSupporting papers can be found here. \n 
URL:https://brutontowncouncil.gov.uk/meeting/full-council-19-3-2-3/
LOCATION:Community Hall
CATEGORIES:Full Council
ORGANIZER;CN="Town Clerk":MAILTO:townclerk@brutontowncouncil.gov.uk
END:VEVENT
BEGIN:VEVENT
DTSTART;TZID=Europe/London:20230530T193000
DTEND;TZID=Europe/London:20230530T213000
DTSTAMP:20260421T093045
CREATED:20230412T102405Z
LAST-MODIFIED:20230525T172443Z
UID:10000438-1685475000-1685482200@brutontowncouncil.gov.uk
SUMMARY:Annual Town Council Meeting (Full Council Meeting)
DESCRIPTION:The agenda can be found here \nSupporting papers can be found here
URL:https://brutontowncouncil.gov.uk/meeting/full-council-19-3-2-2/
LOCATION:Community Hall
CATEGORIES:Full Council
ORGANIZER;CN="Town Clerk":MAILTO:townclerk@brutontowncouncil.gov.uk
END:VEVENT
BEGIN:VEVENT
DTSTART;TZID=Europe/London:20230425T193000
DTEND;TZID=Europe/London:20230425T213000
DTSTAMP:20260421T093045
CREATED:20221207T165658Z
LAST-MODIFIED:20230419T154021Z
UID:10000550-1682451000-1682458200@brutontowncouncil.gov.uk
SUMMARY:Full Council
DESCRIPTION:the agenda can be found here \nSupporting finance papers can be found here
URL:https://brutontowncouncil.gov.uk/meeting/full-council-16-2/
LOCATION:Community Hall
CATEGORIES:Full Council
ORGANIZER;CN="Town Clerk":MAILTO:townclerk@brutontowncouncil.gov.uk
END:VEVENT
BEGIN:VEVENT
DTSTART;TZID=Europe/London:20230328T193000
DTEND;TZID=Europe/London:20230328T213000
DTSTAMP:20260421T093045
CREATED:20230322T210227Z
LAST-MODIFIED:20230322T210239Z
UID:10000555-1680031800-1680039000@brutontowncouncil.gov.uk
SUMMARY:Full Council
DESCRIPTION:Full Council Agenda 28th March 2023
URL:https://brutontowncouncil.gov.uk/meeting/full-council-16-3-3/
LOCATION:Community Hall
CATEGORIES:Full Council
ORGANIZER;CN="Town Clerk":MAILTO:townclerk@brutontowncouncil.gov.uk
END:VEVENT
BEGIN:VEVENT
DTSTART;TZID=Europe/London:20230228T193000
DTEND;TZID=Europe/London:20230228T213000
DTSTAMP:20260421T093045
CREATED:20230223T131236Z
LAST-MODIFIED:20230223T154833Z
UID:10000548-1677612600-1677619800@brutontowncouncil.gov.uk
SUMMARY:Full Council
DESCRIPTION:The agenda can be found here \nSupporting papers can be found here
URL:https://brutontowncouncil.gov.uk/meeting/full-council-16-3-2/
LOCATION:Community Hall
CATEGORIES:Full Council
ORGANIZER;CN="Town Clerk":MAILTO:townclerk@brutontowncouncil.gov.uk
END:VEVENT
BEGIN:VEVENT
DTSTART;TZID=Europe/London:20230117T193000
DTEND;TZID=Europe/London:20230117T213000
DTSTAMP:20260421T093045
CREATED:20221027T224913Z
LAST-MODIFIED:20230112T172100Z
UID:10000547-1673983800-1673991000@brutontowncouncil.gov.uk
SUMMARY:Full Council
DESCRIPTION:Full Council Agenda 17th January 2023
URL:https://brutontowncouncil.gov.uk/meeting/full-council-16/
LOCATION:Community Hall
CATEGORIES:Full Council
ORGANIZER;CN="Town Clerk":MAILTO:townclerk@brutontowncouncil.gov.uk
END:VEVENT
BEGIN:VEVENT
DTSTART;TZID=Europe/London:20221129T193000
DTEND;TZID=Europe/London:20221129T213000
DTSTAMP:20260421T093045
CREATED:20221027T152905Z
LAST-MODIFIED:20221123T152937Z
UID:10000377-1669750200-1669757400@brutontowncouncil.gov.uk
SUMMARY:Full Council
DESCRIPTION:The agenda can be found here
URL:https://brutontowncouncil.gov.uk/meeting/full-council-19/
LOCATION:Community Hall
CATEGORIES:Full Council
ORGANIZER;CN="Town Clerk":MAILTO:townclerk@brutontowncouncil.gov.uk
END:VEVENT
BEGIN:VEVENT
DTSTART;TZID=Europe/London:20210126T193000
DTEND;TZID=Europe/London:20210126T210000
DTSTAMP:20260421T093045
CREATED:20201220T153538Z
LAST-MODIFIED:20210104T195847Z
UID:10000236-1611689400-1611694800@brutontowncouncil.gov.uk
SUMMARY:Full Council
DESCRIPTION:
URL:https://brutontowncouncil.gov.uk/meeting/full-council-reserve-meeting/
LOCATION:Virtual meeting
CATEGORIES:Full Council
ORGANIZER;CN="Town Clerk":MAILTO:townclerk@brutontowncouncil.gov.uk
END:VEVENT
BEGIN:VEVENT
DTSTART;TZID=Europe/London:20210106T193000
DTEND;TZID=Europe/London:20210106T203000
DTSTAMP:20260421T093045
CREATED:20201220T152856Z
LAST-MODIFIED:20201220T153013Z
UID:10000234-1609961400-1609965000@brutontowncouncil.gov.uk
SUMMARY:Extraordinary Full Council
DESCRIPTION:
URL:https://brutontowncouncil.gov.uk/meeting/extraordinary-full-council-730pm-wednesday-6-january-2021/
LOCATION:Virtual meeting
CATEGORIES:Full Council
ORGANIZER;CN="Town Clerk":MAILTO:townclerk@brutontowncouncil.gov.uk
END:VEVENT
END:VCALENDAR