BEGIN:VCALENDAR
VERSION:2.0
PRODID:-//Bruton Town Council - ECPv6.15.14//NONSGML v1.0//EN
CALSCALE:GREGORIAN
METHOD:PUBLISH
X-WR-CALNAME:Bruton Town Council
X-ORIGINAL-URL:https://brutontowncouncil.gov.uk
X-WR-CALDESC:Events for Bruton Town Council
REFRESH-INTERVAL;VALUE=DURATION:PT1H
X-Robots-Tag:noindex
X-PUBLISHED-TTL:PT1H
BEGIN:VTIMEZONE
TZID:Europe/London
BEGIN:DAYLIGHT
TZOFFSETFROM:+0000
TZOFFSETTO:+0100
TZNAME:BST
DTSTART:20210328T010000
END:DAYLIGHT
BEGIN:STANDARD
TZOFFSETFROM:+0100
TZOFFSETTO:+0000
TZNAME:GMT
DTSTART:20211031T010000
END:STANDARD
BEGIN:DAYLIGHT
TZOFFSETFROM:+0000
TZOFFSETTO:+0100
TZNAME:BST
DTSTART:20220327T010000
END:DAYLIGHT
BEGIN:STANDARD
TZOFFSETFROM:+0100
TZOFFSETTO:+0000
TZNAME:GMT
DTSTART:20221030T010000
END:STANDARD
BEGIN:DAYLIGHT
TZOFFSETFROM:+0000
TZOFFSETTO:+0100
TZNAME:BST
DTSTART:20230326T010000
END:DAYLIGHT
BEGIN:STANDARD
TZOFFSETFROM:+0100
TZOFFSETTO:+0000
TZNAME:GMT
DTSTART:20231029T010000
END:STANDARD
BEGIN:DAYLIGHT
TZOFFSETFROM:+0000
TZOFFSETTO:+0100
TZNAME:BST
DTSTART:20240331T010000
END:DAYLIGHT
BEGIN:STANDARD
TZOFFSETFROM:+0100
TZOFFSETTO:+0000
TZNAME:GMT
DTSTART:20241027T010000
END:STANDARD
BEGIN:DAYLIGHT
TZOFFSETFROM:+0000
TZOFFSETTO:+0100
TZNAME:BST
DTSTART:20250330T010000
END:DAYLIGHT
BEGIN:STANDARD
TZOFFSETFROM:+0100
TZOFFSETTO:+0000
TZNAME:GMT
DTSTART:20251026T010000
END:STANDARD
BEGIN:DAYLIGHT
TZOFFSETFROM:+0000
TZOFFSETTO:+0100
TZNAME:BST
DTSTART:20260329T010000
END:DAYLIGHT
BEGIN:STANDARD
TZOFFSETFROM:+0100
TZOFFSETTO:+0000
TZNAME:GMT
DTSTART:20261025T010000
END:STANDARD
END:VTIMEZONE
BEGIN:VEVENT
DTSTART;TZID=Europe/London:20250409T193000
DTEND;TZID=Europe/London:20250409T203000
DTSTAMP:20260420T120345
CREATED:20250326T125751Z
LAST-MODIFIED:20250326T125751Z
UID:10000801-1744227000-1744230600@brutontowncouncil.gov.uk
SUMMARY:Planning & Consultation Response Committee
DESCRIPTION:
URL:https://brutontowncouncil.gov.uk/meeting/planning-consultation-response-committee-12/
LOCATION:Community Office
END:VEVENT
BEGIN:VEVENT
DTSTART;TZID=Europe/London:20250312T193000
DTEND;TZID=Europe/London:20250312T203000
DTSTAMP:20260420T120345
CREATED:20250226T120501Z
LAST-MODIFIED:20250226T120501Z
UID:10000800-1741807800-1741811400@brutontowncouncil.gov.uk
SUMMARY:Planning & Consultation Response Committee
DESCRIPTION:
URL:https://brutontowncouncil.gov.uk/meeting/planning-consultation-response-committee-11/
LOCATION:Community Office
END:VEVENT
BEGIN:VEVENT
DTSTART;TZID=Europe/London:20250304T073000
DTEND;TZID=Europe/London:20250304T203000
DTSTAMP:20260420T120345
CREATED:20250226T120059Z
LAST-MODIFIED:20250226T120059Z
UID:10000799-1741073400-1741120200@brutontowncouncil.gov.uk
SUMMARY:Extraordinary meeting of the Full Council
DESCRIPTION:
URL:https://brutontowncouncil.gov.uk/meeting/extraordinary-meeting-of-the-full-council-6/
LOCATION:Community Hall
END:VEVENT
BEGIN:VEVENT
DTSTART;TZID=Europe/London:20250205T193000
DTEND;TZID=Europe/London:20250205T210000
DTSTAMP:20260420T120345
CREATED:20250131T174917Z
LAST-MODIFIED:20250131T174917Z
UID:10000797-1738783800-1738789200@brutontowncouncil.gov.uk
SUMMARY:Planning & Consultation Response Committee
DESCRIPTION:
URL:https://brutontowncouncil.gov.uk/meeting/planning-consultation-response-committee-10/
LOCATION:Community Office
END:VEVENT
BEGIN:VEVENT
DTSTART;TZID=Europe/London:20241218T193000
DTEND;TZID=Europe/London:20241218T210000
DTSTAMP:20260420T120345
CREATED:20241213T132039Z
LAST-MODIFIED:20241216T151904Z
UID:10000793-1734550200-1734555600@brutontowncouncil.gov.uk
SUMMARY:CANCELLED Extraordinary meeting of the Full Council
DESCRIPTION:
URL:https://brutontowncouncil.gov.uk/meeting/extraordinary-meeting-of-the-full-council-5/
LOCATION:Community Hall
END:VEVENT
BEGIN:VEVENT
DTSTART;TZID=Europe/London:20241204T193000
DTEND;TZID=Europe/London:20241204T203000
DTSTAMP:20260420T120345
CREATED:20241115T180228Z
LAST-MODIFIED:20241127T110944Z
UID:10000790-1733340600-1733344200@brutontowncouncil.gov.uk
SUMMARY:Planning & Consultation Response Committee
DESCRIPTION:
URL:https://brutontowncouncil.gov.uk/meeting/planning-consultation-response-committee-tbc-4/
LOCATION:Community Hall
END:VEVENT
BEGIN:VEVENT
DTSTART;TZID=Europe/London:20241016T193000
DTEND;TZID=Europe/London:20241016T203000
DTSTAMP:20260420T120345
CREATED:20241001T143700Z
LAST-MODIFIED:20241009T093917Z
UID:10000788-1729107000-1729110600@brutontowncouncil.gov.uk
SUMMARY:Planning and Consultation Response Committee
DESCRIPTION:
URL:https://brutontowncouncil.gov.uk/meeting/planning-and-consultation-response-committee-tbc/
LOCATION:Community Office
END:VEVENT
BEGIN:VEVENT
DTSTART;TZID=Europe/London:20240820T193000
DTEND;TZID=Europe/London:20240820T213000
DTSTAMP:20260420T120345
CREATED:20240812T185611Z
LAST-MODIFIED:20240812T185611Z
UID:10000787-1724182200-1724189400@brutontowncouncil.gov.uk
SUMMARY:Extraordinary meeting of the Full Council
DESCRIPTION:
URL:https://brutontowncouncil.gov.uk/meeting/extraordinary-meeting-of-the-full-council-4/
LOCATION:Community Hall
END:VEVENT
BEGIN:VEVENT
DTSTART;TZID=Europe/London:20240813T193000
DTEND;TZID=Europe/London:20240813T203000
DTSTAMP:20260420T120345
CREATED:20240805T101521Z
LAST-MODIFIED:20240805T101521Z
UID:10000786-1723577400-1723581000@brutontowncouncil.gov.uk
SUMMARY:Planning & Consultation Response Committee
DESCRIPTION:
URL:https://brutontowncouncil.gov.uk/meeting/planning-consultation-response-committee-9/
LOCATION:Community Office
END:VEVENT
BEGIN:VEVENT
DTSTART;TZID=Europe/London:20240710T193000
DTEND;TZID=Europe/London:20240710T203000
DTSTAMP:20260420T120345
CREATED:20240621T165845Z
LAST-MODIFIED:20240621T165845Z
UID:10000780-1720639800-1720643400@brutontowncouncil.gov.uk
SUMMARY:Planning & Consultation Response Committee - tbc
DESCRIPTION:
URL:https://brutontowncouncil.gov.uk/meeting/planning-consultation-response-committee-tbc-3/
LOCATION:Community Office
END:VEVENT
BEGIN:VEVENT
DTSTART;TZID=Europe/London:20240619T193000
DTEND;TZID=Europe/London:20240619T203000
DTSTAMP:20260420T120345
CREATED:20240530T154528Z
LAST-MODIFIED:20240530T154528Z
UID:10000757-1718825400-1718829000@brutontowncouncil.gov.uk
SUMMARY:Planning & Consultation Response Committee
DESCRIPTION:
URL:https://brutontowncouncil.gov.uk/meeting/planning-consultation-response-committee-8/
LOCATION:Community Office
END:VEVENT
BEGIN:VEVENT
DTSTART;TZID=Europe/London:20240529T193000
DTEND;TZID=Europe/London:20240529T210000
DTSTAMP:20260420T120345
CREATED:20240510T172001Z
LAST-MODIFIED:20240510T172039Z
UID:10000756-1717011000-1717016400@brutontowncouncil.gov.uk
SUMMARY:Planning & Consultation Response Committee - TBC
DESCRIPTION:
URL:https://brutontowncouncil.gov.uk/meeting/planning-consultation-response-committee-tbc-2/
LOCATION:Community Office
END:VEVENT
BEGIN:VEVENT
DTSTART;TZID=Europe/London:20240508T193000
DTEND;TZID=Europe/London:20240508T203000
DTSTAMP:20260420T120345
CREATED:20240502T225836Z
LAST-MODIFIED:20240502T225836Z
UID:10000755-1715196600-1715200200@brutontowncouncil.gov.uk
SUMMARY:Planning Committee
DESCRIPTION:
URL:https://brutontowncouncil.gov.uk/meeting/planning-committee-19/
LOCATION:Community Office
END:VEVENT
BEGIN:VEVENT
DTSTART;TZID=Europe/London:20240410T193000
DTEND;TZID=Europe/London:20240410T210000
DTSTAMP:20260420T120345
CREATED:20240312T085637Z
LAST-MODIFIED:20240312T085637Z
UID:10000743-1712777400-1712782800@brutontowncouncil.gov.uk
SUMMARY:Planning & Consultation Committee
DESCRIPTION:
URL:https://brutontowncouncil.gov.uk/meeting/planning-consultation-committee-10/
LOCATION:Community Hall
END:VEVENT
BEGIN:VEVENT
DTSTART;TZID=Europe/London:20240305T193000
DTEND;TZID=Europe/London:20240305T203000
DTSTAMP:20260420T120345
CREATED:20240223T114742Z
LAST-MODIFIED:20240223T114742Z
UID:10000742-1709667000-1709670600@brutontowncouncil.gov.uk
SUMMARY:Planning & Consultation Response Committee
DESCRIPTION:
URL:https://brutontowncouncil.gov.uk/meeting/planning-consultation-response-committee-7/
LOCATION:Community Office
END:VEVENT
BEGIN:VEVENT
DTSTART;TZID=Europe/London:20240110T193000
DTEND;TZID=Europe/London:20240110T203000
DTSTAMP:20260420T120345
CREATED:20231224T125412Z
LAST-MODIFIED:20240102T121348Z
UID:10000734-1704915000-1704918600@brutontowncouncil.gov.uk
SUMMARY:Planning & Consultation Response Committee
DESCRIPTION:
URL:https://brutontowncouncil.gov.uk/meeting/planning-consultation-response-committee-6/
LOCATION:Community Office
END:VEVENT
BEGIN:VEVENT
DTSTART;TZID=Europe/London:20240109T073000
DTEND;TZID=Europe/London:20240109T210000
DTSTAMP:20260420T120345
CREATED:20231211T162628Z
LAST-MODIFIED:20231211T162628Z
UID:10000733-1704785400-1704834000@brutontowncouncil.gov.uk
SUMMARY:Extraordinary meeting of the Full Council
DESCRIPTION:
URL:https://brutontowncouncil.gov.uk/meeting/extraordinary-meeting-of-the-full-council-3/
LOCATION:Community Hall
END:VEVENT
BEGIN:VEVENT
DTSTART;TZID=Europe/London:20231127T193000
DTEND;TZID=Europe/London:20231127T213000
DTSTAMP:20260420T120345
CREATED:20231109T100854Z
LAST-MODIFIED:20231115T150134Z
UID:10000726-1701113400-1701120600@brutontowncouncil.gov.uk
SUMMARY:Public meeting arranged by Bruton Town Council and Pitcombe Parish Council to discuss the Bruton School for Girls consultation
DESCRIPTION:
URL:https://brutontowncouncil.gov.uk/meeting/planning-meeting-tbc-2/
LOCATION:Community Hall
END:VEVENT
BEGIN:VEVENT
DTSTART;TZID=Europe/London:20231003T193000
DTEND;TZID=Europe/London:20231003T213000
DTSTAMP:20260420T120345
CREATED:20230917T085055Z
LAST-MODIFIED:20230928T132523Z
UID:10000591-1696361400-1696368600@brutontowncouncil.gov.uk
SUMMARY:Extraordinary meeting of the Full Council
DESCRIPTION:the agenda can be found here
URL:https://brutontowncouncil.gov.uk/meeting/planning-consultation-committee-tbc/
LOCATION:Community Hall
CATEGORIES:Full Council
END:VEVENT
BEGIN:VEVENT
DTSTART;TZID=Europe/London:20230615T193000
DTEND;TZID=Europe/London:20230615T203000
DTSTAMP:20260420T120345
CREATED:20230602T193025Z
LAST-MODIFIED:20230602T193130Z
UID:10000575-1686857400-1686861000@brutontowncouncil.gov.uk
SUMMARY:Planning & Consultation Committee
DESCRIPTION:
URL:https://brutontowncouncil.gov.uk/meeting/planning-consultation-committee-7/
LOCATION:Community Hall
END:VEVENT
BEGIN:VEVENT
DTSTART;TZID=Europe/London:20230424T193000
DTEND;TZID=Europe/London:20230424T203000
DTSTAMP:20260420T120345
CREATED:20230412T121433Z
LAST-MODIFIED:20230419T105952Z
UID:10000571-1682364600-1682368200@brutontowncouncil.gov.uk
SUMMARY:Planning & Consultation Response Committee
DESCRIPTION:The agenda can be found here
URL:https://brutontowncouncil.gov.uk/meeting/planning-consultation-response-committee-3/
LOCATION:Community Office
END:VEVENT
BEGIN:VEVENT
DTSTART;TZID=Europe/London:20230207T193000
DTEND;TZID=Europe/London:20230207T210000
DTSTAMP:20260420T120345
CREATED:20230124T085229Z
LAST-MODIFIED:20230202T152759Z
UID:10000563-1675798200-1675803600@brutontowncouncil.gov.uk
SUMMARY:Planning & Consultation Committee meeting
DESCRIPTION:the agenda can be found here 
URL:https://brutontowncouncil.gov.uk/meeting/planning-consultation-committee-meeting/
LOCATION:Community Hall
CATEGORIES:Planning
END:VEVENT
BEGIN:VEVENT
DTSTART;TZID=Europe/London:20221108T193000
DTEND;TZID=Europe/London:20221108T203000
DTSTAMP:20260420T120345
CREATED:20221026T193558Z
LAST-MODIFIED:20221103T112050Z
UID:10000375-1667935800-1667939400@brutontowncouncil.gov.uk
SUMMARY:Planning & Consultation Committee (informal meeting)
DESCRIPTION:
URL:https://brutontowncouncil.gov.uk/meeting/planning-consultation-committee-informal-meeting/
LOCATION:Virtual (online) meeting\, via Zoom
END:VEVENT
END:VCALENDAR