BEGIN:VCALENDAR
VERSION:2.0
PRODID:-//Bruton Town Council - ECPv6.15.14//NONSGML v1.0//EN
CALSCALE:GREGORIAN
METHOD:PUBLISH
X-ORIGINAL-URL:https://brutontowncouncil.gov.uk
X-WR-CALDESC:Events for Bruton Town Council
REFRESH-INTERVAL;VALUE=DURATION:PT1H
X-Robots-Tag:noindex
X-PUBLISHED-TTL:PT1H
BEGIN:VTIMEZONE
TZID:Europe/London
BEGIN:DAYLIGHT
TZOFFSETFROM:+0000
TZOFFSETTO:+0100
TZNAME:BST
DTSTART:20210328T010000
END:DAYLIGHT
BEGIN:STANDARD
TZOFFSETFROM:+0100
TZOFFSETTO:+0000
TZNAME:GMT
DTSTART:20211031T010000
END:STANDARD
BEGIN:DAYLIGHT
TZOFFSETFROM:+0000
TZOFFSETTO:+0100
TZNAME:BST
DTSTART:20220327T010000
END:DAYLIGHT
BEGIN:STANDARD
TZOFFSETFROM:+0100
TZOFFSETTO:+0000
TZNAME:GMT
DTSTART:20221030T010000
END:STANDARD
BEGIN:DAYLIGHT
TZOFFSETFROM:+0000
TZOFFSETTO:+0100
TZNAME:BST
DTSTART:20230326T010000
END:DAYLIGHT
BEGIN:STANDARD
TZOFFSETFROM:+0100
TZOFFSETTO:+0000
TZNAME:GMT
DTSTART:20231029T010000
END:STANDARD
END:VTIMEZONE
BEGIN:VEVENT
DTSTART;TZID=Europe/London:20220614T193000
DTEND;TZID=Europe/London:20220614T213000
DTSTAMP:20260420T163355
CREATED:20220601T192347Z
LAST-MODIFIED:20220606T153231Z
UID:10000304-1655235000-1655242200@brutontowncouncil.gov.uk
SUMMARY:Town Committee
DESCRIPTION:
URL:https://brutontowncouncil.gov.uk/meeting/town-committee-2/
LOCATION:Methodist Church
ORGANIZER;CN="Town Clerk":MAILTO:townclerk@brutontowncouncil.gov.uk
END:VEVENT
BEGIN:VEVENT
DTSTART;TZID=Europe/London:20220318T170000
DTEND;TZID=Europe/London:20220318T173000
DTSTAMP:20260420T163355
CREATED:20220314T182038Z
LAST-MODIFIED:20220314T182038Z
UID:10000285-1647622800-1647624600@brutontowncouncil.gov.uk
SUMMARY:Extraordinary meeting of the Full Council
DESCRIPTION:
URL:https://brutontowncouncil.gov.uk/meeting/extraordinary-meeting-of-the-full-council/
LOCATION:Methodist Church
ORGANIZER;CN="Town Clerk":MAILTO:townclerk@brutontowncouncil.gov.uk
END:VEVENT
BEGIN:VEVENT
DTSTART;TZID=Europe/London:20220308T193000
DTEND;TZID=Europe/London:20220308T213000
DTSTAMP:20260420T163355
CREATED:20220303T162123Z
LAST-MODIFIED:20220303T162123Z
UID:10000282-1646767800-1646775000@brutontowncouncil.gov.uk
SUMMARY:Extraordinary meeting of Full Council
DESCRIPTION:
URL:https://brutontowncouncil.gov.uk/meeting/extraordinary-meeting-of-full-council-2/
LOCATION:Methodist Church
ORGANIZER;CN="Town Clerk":MAILTO:townclerk@brutontowncouncil.gov.uk
END:VEVENT
END:VCALENDAR