BEGIN:VCALENDAR
VERSION:2.0
PRODID:-//Bruton Town Council - ECPv6.15.14//NONSGML v1.0//EN
CALSCALE:GREGORIAN
METHOD:PUBLISH
X-WR-CALNAME:Bruton Town Council
X-ORIGINAL-URL:https://brutontowncouncil.gov.uk
X-WR-CALDESC:Events for Bruton Town Council
REFRESH-INTERVAL;VALUE=DURATION:PT1H
X-Robots-Tag:noindex
X-PUBLISHED-TTL:PT1H
BEGIN:VTIMEZONE
TZID:Europe/London
BEGIN:DAYLIGHT
TZOFFSETFROM:+0000
TZOFFSETTO:+0100
TZNAME:BST
DTSTART:20190331T010000
END:DAYLIGHT
BEGIN:STANDARD
TZOFFSETFROM:+0100
TZOFFSETTO:+0000
TZNAME:GMT
DTSTART:20191027T010000
END:STANDARD
BEGIN:DAYLIGHT
TZOFFSETFROM:+0000
TZOFFSETTO:+0100
TZNAME:BST
DTSTART:20200329T010000
END:DAYLIGHT
BEGIN:STANDARD
TZOFFSETFROM:+0100
TZOFFSETTO:+0000
TZNAME:GMT
DTSTART:20201025T010000
END:STANDARD
BEGIN:DAYLIGHT
TZOFFSETFROM:+0000
TZOFFSETTO:+0100
TZNAME:BST
DTSTART:20210328T010000
END:DAYLIGHT
BEGIN:STANDARD
TZOFFSETFROM:+0100
TZOFFSETTO:+0000
TZNAME:GMT
DTSTART:20211031T010000
END:STANDARD
BEGIN:DAYLIGHT
TZOFFSETFROM:+0000
TZOFFSETTO:+0100
TZNAME:BST
DTSTART:20220327T010000
END:DAYLIGHT
BEGIN:STANDARD
TZOFFSETFROM:+0100
TZOFFSETTO:+0000
TZNAME:GMT
DTSTART:20221030T010000
END:STANDARD
BEGIN:DAYLIGHT
TZOFFSETFROM:+0000
TZOFFSETTO:+0100
TZNAME:BST
DTSTART:20230326T010000
END:DAYLIGHT
BEGIN:STANDARD
TZOFFSETFROM:+0100
TZOFFSETTO:+0000
TZNAME:GMT
DTSTART:20231029T010000
END:STANDARD
END:VTIMEZONE
BEGIN:VEVENT
DTSTART;TZID=Europe/London:20221108T193000
DTEND;TZID=Europe/London:20221108T203000
DTSTAMP:20260420T110317
CREATED:20221026T193558Z
LAST-MODIFIED:20221103T112050Z
UID:10000375-1667935800-1667939400@brutontowncouncil.gov.uk
SUMMARY:Planning & Consultation Committee (informal meeting)
DESCRIPTION:
URL:https://brutontowncouncil.gov.uk/meeting/planning-consultation-committee-informal-meeting/
LOCATION:Virtual (online) meeting\, via Zoom
END:VEVENT
BEGIN:VEVENT
DTSTART;TZID=Europe/London:20210504T193000
DTEND;TZID=Europe/London:20210504T213000
DTSTAMP:20260420T110317
CREATED:20210428T105555Z
LAST-MODIFIED:20210428T105829Z
UID:10000246-1620156600-1620163800@brutontowncouncil.gov.uk
SUMMARY:Annual Meeting of the Town Council
DESCRIPTION:
URL:https://brutontowncouncil.gov.uk/meeting/annual-meeting-of-the-parish-council/
LOCATION:Virtual (online) meeting\, via Zoom
ORGANIZER;CN="Town Clerk":MAILTO:townclerk@brutontowncouncil.gov.uk
END:VEVENT
BEGIN:VEVENT
DTSTART;TZID=Europe/London:20210429T190000
DTEND;TZID=Europe/London:20210429T210000
DTSTAMP:20260420T110317
CREATED:20210419T163817Z
LAST-MODIFIED:20210419T163817Z
UID:10000245-1619722800-1619730000@brutontowncouncil.gov.uk
SUMMARY:Bruton Town Forum
DESCRIPTION:The Town Council has agreed to arrange a Bruton Town Forum from 7pm on 29 April 2021. This is intended to be a celebration of Bruton’s energetic community life\, and is distinct from the statutory Annual Town Council Meeting (its AGM) \nLocal groups will be speaking their activities and achievements during the year. This is an opportunity to tell the whole Bruton Community about the fantastic work being done\, so that everyone can appreciate the wealth of community work being led by a range of local organisations.  \nBruton Town Forum will be held from 7pm on 29 April 2021. Owing to current Government restrictions on meetings\, this will be convened remotely using Zoom technology. The meeting will also be broadcast on the Council’s YouTube channel so that the whole Bruton Community can watch.
URL:https://brutontowncouncil.gov.uk/meeting/bruton-town-forum/
LOCATION:Virtual (online) meeting\, via Zoom
CATEGORIES:Annual Meeting,Other
ORGANIZER;CN="Town Clerk":MAILTO:townclerk@brutontowncouncil.gov.uk
END:VEVENT
BEGIN:VEVENT
DTSTART;TZID=Europe/London:20210302T193000
DTEND;TZID=Europe/London:20210302T193000
DTSTAMP:20260420T110317
CREATED:20210225T154716Z
LAST-MODIFIED:20210225T154716Z
UID:10000242-1614713400-1614713400@brutontowncouncil.gov.uk
SUMMARY:Services and Amenities
DESCRIPTION:Agenda here
URL:https://brutontowncouncil.gov.uk/meeting/services-and-amenities/
LOCATION:Virtual (online) meeting\, via Zoom
CATEGORIES:Services & Amenities
ORGANIZER;CN="Town Clerk":MAILTO:townclerk@brutontowncouncil.gov.uk
END:VEVENT
BEGIN:VEVENT
DTSTART;TZID=Europe/London:20200923T190000
DTEND;TZID=Europe/London:20200923T200000
DTSTAMP:20260420T110317
CREATED:20200914T074120Z
LAST-MODIFIED:20200914T075344Z
UID:10000224-1600887600-1600891200@brutontowncouncil.gov.uk
SUMMARY:Planning meeting
DESCRIPTION:
URL:https://brutontowncouncil.gov.uk/meeting/planning-meeting-4/
LOCATION:Virtual (online) meeting\, via Zoom
CATEGORIES:Planning
ORGANIZER;CN="Town Clerk":MAILTO:townclerk@brutontowncouncil.gov.uk
END:VEVENT
BEGIN:VEVENT
DTSTART;TZID=Europe/London:20200915T193000
DTEND;TZID=Europe/London:20200915T210000
DTSTAMP:20260420T110317
CREATED:20200830T101546Z
LAST-MODIFIED:20200914T073948Z
UID:10000223-1600198200-1600203600@brutontowncouncil.gov.uk
SUMMARY:Community Engagement Committee meeting
DESCRIPTION:
URL:https://brutontowncouncil.gov.uk/meeting/community-engagement-committee-meeting/
LOCATION:Virtual (online) meeting\, via Zoom
CATEGORIES:Communications
ORGANIZER;CN="Town Clerk":MAILTO:townclerk@brutontowncouncil.gov.uk
END:VEVENT
BEGIN:VEVENT
DTSTART;TZID=Europe/London:20200819T190000
DTEND;TZID=Europe/London:20200819T193000
DTSTAMP:20260420T110317
CREATED:20200814T143337Z
LAST-MODIFIED:20200814T143415Z
UID:10000221-1597863600-1597865400@brutontowncouncil.gov.uk
SUMMARY:Planning Committee meeting
DESCRIPTION:
URL:https://brutontowncouncil.gov.uk/meeting/planning-committee-meetings/
LOCATION:Virtual (online) meeting\, via Zoom
ORGANIZER;CN="Town Clerk":MAILTO:townclerk@brutontowncouncil.gov.uk
END:VEVENT
BEGIN:VEVENT
DTSTART;TZID=Europe/London:20200812T193000
DTEND;TZID=Europe/London:20200812T203000
DTSTAMP:20260420T110317
CREATED:20200804T152810Z
LAST-MODIFIED:20200804T152810Z
UID:10000219-1597260600-1597264200@brutontowncouncil.gov.uk
SUMMARY:Communications meeting
DESCRIPTION:
URL:https://brutontowncouncil.gov.uk/meeting/communications-meeting/
LOCATION:Virtual (online) meeting\, via Zoom
ORGANIZER;CN="Assistant Clerk":MAILTO:patrick.pender-cudlip@brutontowncouncil.gov.uk
END:VEVENT
BEGIN:VEVENT
DTSTART;TZID=Europe/London:20200729T190000
DTEND;TZID=Europe/London:20200729T193000
DTSTAMP:20260420T110317
CREATED:20200709T104104Z
LAST-MODIFIED:20200709T104104Z
UID:10000217-1596049200-1596051000@brutontowncouncil.gov.uk
SUMMARY:Planning meeting
DESCRIPTION:
URL:https://brutontowncouncil.gov.uk/meeting/planning-meeting-3/
LOCATION:Virtual (online) meeting\, via Zoom
ORGANIZER;CN="Town Clerk":MAILTO:townclerk@brutontowncouncil.gov.uk
END:VEVENT
END:VCALENDAR